BEGIN:VCALENDAR
VERSION:2.0
PRODID:-//Falkor//Falkor Events//EN
CALSCALE:GREGORIAN
METHOD:PUBLISH
BEGIN:VEVENT
DTSTART:20260710T201000Z
DTEND:20260710T233000Z
SUMMARY:Padres vs. Atlanta Braves
DESCRIPTION:The Braves are a legitimate playoff contender every season\, and a July matchup at Petco with the National League race tightening is exactly the kind of game that stays with you. July 10. Summer night at the ballpark\, the Western Metal Supply building lit up beyond left field\, and baseball that actually means something. Tickets via the Padres app.
LOCATION:Petco Park\, 100 Park Blvd\, San Diego\, CA 92101
URL:https://www.falkorevents.com/eventcal/event/2620/details/
UID:event-2620@falkorevents.com
END:VEVENT
END:VCALENDAR