BEGIN:VCALENDAR
VERSION:2.0
PRODID:-//Falkor//Falkor Events//EN
CALSCALE:GREGORIAN
METHOD:PUBLISH
BEGIN:VEVENT
DTSTART:20260418T210000Z
DTEND:20260419T000000Z
SUMMARY:Los Horoscopos De Durango
DESCRIPTION:The performing arts at Morongo Casino Resort and Spa in Cabazon operate at a scale that requires presence — the version with no rewind\, no pause\, and no substitute for being in the seat. Los Horoscopos De Durango performs at Morongo Casino Resort and Spa in Cabazon on April 18\, 2026. all ages. The performing arts require a room to work — this is the version with no rewind\, no pause\, and no substitute for being present.
LOCATION:49500 Seminole Dr\, Morongo Casino Resort and Spa\, Cabazon\, CA
URL:https://www.falkorevents.com/eventcal/event/2847/details/
UID:event-2847@falkorevents.com
END:VEVENT
END:VCALENDAR