BEGIN:VCALENDAR
VERSION:2.0
PRODID:-//Falkor//Falkor Events//EN
CALSCALE:GREGORIAN
METHOD:PUBLISH
BEGIN:VEVENT
DTSTART:20260422T190000Z
DTEND:20260422T220000Z
SUMMARY:KCRW Presents Thee Sacred Souls
DESCRIPTION:Greek Theatre in Los Angeles holds shows at the distance where the monitors bleed into the room and the crowd becomes part of the mix. KCRW performs at Greek Theatre in Los Angeles on April 22\, 2026. All ages. What plays in the car on the way home is always the live version\, even when the live version hasn't happened yet.
LOCATION:2700 N. Vermont Ave\, Greek Theatre\, Los Angeles\, CA
URL:https://www.falkorevents.com/eventcal/event/2882/details/
UID:event-2882@falkorevents.com
END:VEVENT
END:VCALENDAR