BEGIN:VCALENDAR
VERSION:2.0
PRODID:-//Falkor//Falkor Events//EN
CALSCALE:GREGORIAN
METHOD:PUBLISH
BEGIN:VEVENT
DTSTART:20260428T190000Z
DTEND:20260428T220000Z
SUMMARY:Ryan Caraveo: Forever Foggy Tour
DESCRIPTION:Live hip-hop in a room this size is the version the album was pointing toward — the crowd finishes the lines. Ryan Caraveo: Forever Foggy Tour performs at The Observatory in Santa Ana on April 28\, 2026. Doors at 7pm\, show at 8pm\, All Ages. Live shows at rooms this size leave a different imprint than arenas — the ones who go remember the set list\; the ones who don't remember the night they said no.
LOCATION:3503 S. Harbor Blvd.\, The Observatory\, Santa Ana\, CA
URL:https://www.falkorevents.com/eventcal/event/2969/details/
UID:event-2969@falkorevents.com
END:VEVENT
END:VCALENDAR