BEGIN:VCALENDAR
VERSION:2.0
PRODID:-//Falkor//Falkor Events//EN
CALSCALE:GREGORIAN
METHOD:PUBLISH
BEGIN:VEVENT
DTSTART:20260430T190000Z
DTEND:20260430T220000Z
SUMMARY:Wage War - It Calls Me By Name Tour
DESCRIPTION:Live music in a room like #337 has a specific physics: the sound arrives before you've decided how to feel about it\, and Wage War has always known what to do with that. Wage War performs at #337 in House of Blues Anaheim on April 30\, 2026. Doors at 7pm. The crowd at a show like this has been waiting for exactly this room — the specific night where the distance between stage and floor is close enough to matter.
LOCATION:400 W Disney Way\, #337\, House of Blues Anaheim\, Anaheim\, CA
URL:https://www.falkorevents.com/eventcal/event/2987/details/
UID:event-2987@falkorevents.com
END:VEVENT
END:VCALENDAR