BEGIN:VCALENDAR
VERSION:2.0
PRODID:-//Falkor//Falkor Events//EN
CALSCALE:GREGORIAN
METHOD:PUBLISH
BEGIN:VEVENT
DTSTART:20260505T190000Z
DTEND:20260505T220000Z
SUMMARY:Agriculture - The Spiritual Sound Tour
DESCRIPTION:Agriculture at Constellation Room in Santa Ana — the stage-to-crowd distance that changes what a live show means\, in the city where this particular crowd assembles. Agriculture performs at Constellation Room in Santa Ana on May 5\, 2026. Doors at 7:00 PM\, show at 8:00 PM\, All Ages. The setlist is fixed\, the room is real\, the sound doesn't survive the door — this is the version that lives only in the people who show up.
LOCATION:3503 South Harbor Boulevard\, Constellation Room\, Santa Ana\, CA
URL:https://www.falkorevents.com/eventcal/event/3054/details/
UID:event-3054@falkorevents.com
END:VEVENT
END:VCALENDAR