BEGIN:VCALENDAR
VERSION:2.0
PRODID:-//Falkor//Falkor Events//EN
CALSCALE:GREGORIAN
METHOD:PUBLISH
BEGIN:VEVENT
DTSTART:20260506T190000Z
DTEND:20260506T220000Z
SUMMARY:Saults
DESCRIPTION:Some shows exist because the room and the artist are the right match — Saults at Teragram Ballroom in Los Angeles is one of those\, the kind of night the regulars mention for months. Saults performs at Teragram Ballroom in Los Angeles on May 6\, 2026. Doors at 7pm\, All Ages. The recording is already out there — this is the version that isn't.
LOCATION:1234 West 7th Street\, Teragram Ballroom\, Los Angeles\, CA
URL:https://www.falkorevents.com/eventcal/event/3063/details/
UID:event-3063@falkorevents.com
END:VEVENT
END:VCALENDAR