BEGIN:VCALENDAR
VERSION:2.0
PRODID:-//Falkor//Falkor Events//EN
CALSCALE:GREGORIAN
METHOD:PUBLISH
BEGIN:VEVENT
DTSTART:20260507T190000Z
DTEND:20260507T220000Z
SUMMARY:Willowake
DESCRIPTION:The guitar tone that comes off a stage in a room like Constellation Room doesn't survive a recording — Willowake in Santa Ana on May 7\, 2026 is the version that only exists if you're in the room. Willowake performs at Constellation Room in Santa Ana on May 7\, 2026. Doors at 7pm\, show at 8pm\, All Ages. There is no second chance at this particular night in this particular room — that is the only thing a live show offers that recordings can't replicate.
LOCATION:3503 South Harbor Boulevard\, Constellation Room\, Santa Ana\, CA
URL:https://www.falkorevents.com/eventcal/event/3069/details/
UID:event-3069@falkorevents.com
END:VEVENT
END:VCALENDAR