BEGIN:VCALENDAR
VERSION:2.0
PRODID:-//Falkor//Falkor Events//EN
CALSCALE:GREGORIAN
METHOD:PUBLISH
BEGIN:VEVENT
DTSTART:20260507T190000Z
DTEND:20260507T220000Z
SUMMARY:Grace Ives
DESCRIPTION:The version of Grace Ives that exists on record is the map — the show at Teragram Ballroom in Los Angeles on May 7\, 2026 is the territory. Grace Ives performs at Teragram Ballroom in Los Angeles on May 7\, 2026. Doors at 7pm\, All Ages. The people in the room carry it differently than the people who watched the stream.
LOCATION:1234 West 7th Street\, Teragram Ballroom\, Los Angeles\, CA
URL:https://www.falkorevents.com/eventcal/event/3072/details/
UID:event-3072@falkorevents.com
END:VEVENT
END:VCALENDAR