BEGIN:VCALENDAR
VERSION:2.0
PRODID:-//Falkor//Falkor Events//EN
CALSCALE:GREGORIAN
METHOD:PUBLISH
BEGIN:VEVENT
DTSTART:20260508T190000Z
DTEND:20260508T220000Z
SUMMARY:Grandaddy - 25th Anniversary of Sophtware Slump
DESCRIPTION:The version of Grandaddy that exists on record is the map — the show at The Observatory in Santa Ana on May 8\, 2026 is the territory. Grandaddy performs at The Observatory in Santa Ana on May 8\, 2026. Doors at 7:00 PM\, show at 8:00 PM\, All Ages. The crowd at a show like this has been waiting for exactly this room — the specific night where the distance between stage and floor is close enough to matter.
LOCATION:3503 S. Harbor Blvd.\, The Observatory\, Santa Ana\, CA
URL:https://www.falkorevents.com/eventcal/event/3083/details/
UID:event-3083@falkorevents.com
END:VEVENT
END:VCALENDAR