BEGIN:VCALENDAR
VERSION:2.0
PRODID:-//Falkor//Falkor Events//EN
CALSCALE:GREGORIAN
METHOD:PUBLISH
BEGIN:VEVENT
DTSTART:20260508T190000Z
DTEND:20260508T220000Z
SUMMARY:Grace Ives
DESCRIPTION:Constellation Room in Santa Ana is the kind of venue where the crowd can see the sweat and the setlist changes feel personal. Grace Ives performs at Constellation Room in Santa Ana on May 8\, 2026. Doors at 7:00 PM\, show at 8:00 PM\, All Ages. The setlist is fixed\, the room is real\, the sound doesn't survive the door — this is the version that lives only in the people who show up.
LOCATION:3503 South Harbor Boulevard\, Constellation Room\, Santa Ana\, CA
URL:https://www.falkorevents.com/eventcal/event/3086/details/
UID:event-3086@falkorevents.com
END:VEVENT
END:VCALENDAR