BEGIN:VCALENDAR
VERSION:2.0
PRODID:-//Falkor//Falkor Events//EN
CALSCALE:GREGORIAN
METHOD:PUBLISH
BEGIN:VEVENT
DTSTART:20260508T200000Z
DTEND:20260508T230000Z
SUMMARY:Selena The Show - Starring Karla Perez
DESCRIPTION:There are rooms in Coachella where live music works differently\, and Spotlight 29 Casino is one of them — the kind of space where the low end hits before the volume registers. Selena The Show performs at Spotlight 29 Casino in Coachella on May 8\, 2026. 18+. Live shows at rooms this size leave a different imprint than arenas — the ones who go remember the set list\; the ones who don't remember the night they said no.
LOCATION:46-200 Harrison Place\, Spotlight 29 Casino\, Coachella\, CA
URL:https://www.falkorevents.com/eventcal/event/3089/details/
UID:event-3089@falkorevents.com
END:VEVENT
END:VCALENDAR