BEGIN:VCALENDAR
VERSION:2.0
PRODID:-//Falkor//Falkor Events//EN
CALSCALE:GREGORIAN
METHOD:PUBLISH
BEGIN:VEVENT
DTSTART:20260509T190000Z
DTEND:20260509T220000Z
SUMMARY:Glixen + trauma ray with KEEP and Money
DESCRIPTION:The way Glixen + trauma ray with KEEP and Money plays a small room is a different argument than the record — Teragram Ballroom in Los Angeles on May 9\, 2026 is where that argument gets made in person. Glixen + trauma ray with KEEP and Money performs at Teragram Ballroom in Los Angeles on May 9\, 2026. Doors at 7pm\, All Ages. The crowd at a show like this has been waiting for exactly this room — the specific night where the distance between stage and floor is close enough to matter.
LOCATION:1234 West 7th Street\, Teragram Ballroom\, Los Angeles\, CA
URL:https://www.falkorevents.com/eventcal/event/3099/details/
UID:event-3099@falkorevents.com
END:VEVENT
END:VCALENDAR