BEGIN:VCALENDAR
VERSION:2.0
PRODID:-//Falkor//Falkor Events//EN
CALSCALE:GREGORIAN
METHOD:PUBLISH
BEGIN:VEVENT
DTSTART:20260515T190000Z
DTEND:20260515T220000Z
SUMMARY:The Midnight: Time Machines
DESCRIPTION:Some shows exist because the room and the artist are the right match — The Midnight: Time Machines at Hollywood Palladium in Hollywood is one of those\, the kind of night the regulars mention for months. The Midnight: Time Machines performs at Hollywood Palladium in Hollywood on May 15\, 2026. Doors at 7PM\, show at 8PM\, All Ages. The recording is already out there — this is the version that isn't.
LOCATION:6215 Sunset Blvd\, Hollywood Palladium\, Hollywood\, CA
URL:https://www.falkorevents.com/eventcal/event/3159/details/
UID:event-3159@falkorevents.com
END:VEVENT
END:VCALENDAR