BEGIN:VCALENDAR
VERSION:2.0
PRODID:-//Falkor//Falkor Events//EN
CALSCALE:GREGORIAN
METHOD:PUBLISH
BEGIN:VEVENT
DTSTART:20260515T200000Z
DTEND:20260515T230000Z
SUMMARY:Latin Legends
DESCRIPTION:Spotlight 29 Casino in Coachella holds shows at the distance where the monitors bleed into the room and the crowd becomes part of the mix. Latin Legends performs at Spotlight 29 Casino in Coachella on May 15\, 2026. 18+. What plays in the car on the way home is always the live version\, even when the live version hasn't happened yet.
LOCATION:46-200 Harrison Place\, Spotlight 29 Casino\, Coachella\, CA
URL:https://www.falkorevents.com/eventcal/event/3170/details/
UID:event-3170@falkorevents.com
END:VEVENT
END:VCALENDAR