BEGIN:VCALENDAR
VERSION:2.0
PRODID:-//Falkor//Falkor Events//EN
CALSCALE:GREGORIAN
METHOD:PUBLISH
BEGIN:VEVENT
DTSTART:20260520T190000Z
DTEND:20260520T220000Z
SUMMARY:GELLI HAHA - WHERE IN THE WORLD IS GELLI HAHA TOUR
DESCRIPTION:Constellation Room in Santa Ana holds shows at the distance where the monitors bleed into the room and the crowd becomes part of the mix. GELLI HAHA performs at Constellation Room in Santa Ana on May 20\, 2026. Doors at 7:00 PM\, show at 8:00 PM\, All Ages. Live shows at rooms this size leave a different imprint than arenas — the ones who go remember the set list\; the ones who don't remember the night they said no.
LOCATION:3503 South Harbor Boulevard\, Constellation Room\, Santa Ana\, CA
URL:https://www.falkorevents.com/eventcal/event/3217/details/
UID:event-3217@falkorevents.com
END:VEVENT
END:VCALENDAR