BEGIN:VCALENDAR
VERSION:2.0
PRODID:-//Falkor//Falkor Events//EN
CALSCALE:GREGORIAN
METHOD:PUBLISH
BEGIN:VEVENT
DTSTART:20260522T180000Z
DTEND:20260522T210000Z
SUMMARY:Dethklok
DESCRIPTION:Rock music in a room the size of Hollywood Palladium operates at a different physics than it does in an arena — you feel the kick drum before you hear it. Dethklok performs at Hollywood Palladium in Hollywood on May 22\, 2026. Doors at 6PM\, show at 7PM\, All Ages. The people who were there will describe it differently than anyone who heard about it later — that difference is what the ticket buys.
LOCATION:6215 Sunset Blvd\, Hollywood Palladium\, Hollywood\, CA
URL:https://www.falkorevents.com/eventcal/event/3236/details/
UID:event-3236@falkorevents.com
END:VEVENT
END:VCALENDAR