BEGIN:VCALENDAR
VERSION:2.0
PRODID:-//Falkor//Falkor Events//EN
CALSCALE:GREGORIAN
METHOD:PUBLISH
BEGIN:VEVENT
DTSTART:20260522T200000Z
DTEND:20260522T230000Z
SUMMARY:Romeo Santos & Prince Royce - Mejor Tarde Que Nunc
DESCRIPTION:Some shows exist because the room and the artist are the right match — Romeo Santos & Prince Royce at Honda Center in Anaheim is one of those\, the kind of night the regulars mention for months. Romeo Santos & Prince Royce performs at Honda Center in Anaheim on May 22\, 2026. The recording is already out there — this is the version that isn't.
LOCATION:2695 E. Katella\, Honda Center\, Anaheim\, CA
URL:https://www.falkorevents.com/eventcal/event/3247/details/
UID:event-3247@falkorevents.com
END:VEVENT
END:VCALENDAR