BEGIN:VCALENDAR
VERSION:2.0
PRODID:-//Falkor//Falkor Events//EN
CALSCALE:GREGORIAN
METHOD:PUBLISH
BEGIN:VEVENT
DTSTART:20260527T200000Z
DTEND:20260527T230000Z
SUMMARY:Leire
DESCRIPTION:The Belasco in Los Angeles is the kind of venue where the crowd can see the sweat and the setlist changes feel personal. Leire performs at The Belasco in Los Angeles on May 27\, 2026. Doors at 8PM\, show at 9PM\, ALL AGES. The setlist is fixed\, the room is real\, the sound doesn't survive the door — this is the version that lives only in the people who show up.
LOCATION:1050 South Hill Street\, The Belasco\, Los Angeles\, CA
URL:https://www.falkorevents.com/eventcal/event/3286/details/
UID:event-3286@falkorevents.com
END:VEVENT
END:VCALENDAR