BEGIN:VCALENDAR
VERSION:2.0
PRODID:-//Falkor//Falkor Events//EN
CALSCALE:GREGORIAN
METHOD:PUBLISH
BEGIN:VEVENT
DTSTART:20260529T190000Z
DTEND:20260529T220000Z
SUMMARY:Lowertown
DESCRIPTION:The guitar tone that comes off a stage in a room like Constellation Room doesn't survive a recording — Lowertown in Santa Ana on May 29\, 2026 is the version that only exists if you're in the room. Lowertown performs at Constellation Room in Santa Ana on May 29\, 2026. Doors at 7:00 PM\, show at 8:00 PM\, All Ages. The people who were there will describe it differently than anyone who heard about it later — that difference is what the ticket buys.
LOCATION:3503 South Harbor Boulevard\, Constellation Room\, Santa Ana\, CA
URL:https://www.falkorevents.com/eventcal/event/3300/details/
UID:event-3300@falkorevents.com
END:VEVENT
END:VCALENDAR