BEGIN:VCALENDAR
VERSION:2.0
PRODID:-//Falkor//Falkor Events//EN
CALSCALE:GREGORIAN
METHOD:PUBLISH
BEGIN:VEVENT
DTSTART:20260604T190000Z
DTEND:20260604T220000Z
SUMMARY:Allah-Las
DESCRIPTION:There are rooms in Santa Ana where live music works differently\, and The Observatory is one of them — the kind of space where the low end hits before the volume registers. Allah-Las performs at The Observatory in Santa Ana on June 4\, 2026. Doors at 7:00 PM\, show at 8:00 PM\, All Ages. The recording is already out there — this is the version that isn't.
LOCATION:3503 S. Harbor Blvd.\, The Observatory\, Santa Ana\, CA
URL:https://www.falkorevents.com/eventcal/event/3535/details/
UID:event-3535@falkorevents.com
END:VEVENT
END:VCALENDAR