BEGIN:VCALENDAR
VERSION:2.0
PRODID:-//Falkor//Falkor Events//EN
CALSCALE:GREGORIAN
METHOD:PUBLISH
BEGIN:VEVENT
DTSTART:20260610T190000Z
DTEND:20260610T220000Z
SUMMARY:Earl Sweatshirt & MIKE Home on the Range Tour 2026
DESCRIPTION:Earl Sweatshirt & MIKE Home on the Range Tour at Hollywood Palladium in Hollywood on June 10\, 2026: the bars that hit different in a small room\, where the ad-libs carry and the energy is something the recording was always a rough draft of. Earl Sweatshirt & MIKE Home on the Range Tour performs at Hollywood Palladium in Hollywood on June 10\, 2026. Doors at 7PM\, show at 8PM\, All Ages. The setlist is fixed\, the room is real\, the sound doesn't survive the door — this is the version that lives only in the people who show up.
LOCATION:6215 Sunset Blvd\, Hollywood Palladium\, Hollywood\, CA
URL:https://www.falkorevents.com/eventcal/event/3598/details/
UID:event-3598@falkorevents.com
END:VEVENT
END:VCALENDAR