BEGIN:VCALENDAR
VERSION:2.0
PRODID:-//Falkor//Falkor Events//EN
CALSCALE:GREGORIAN
METHOD:PUBLISH
BEGIN:VEVENT
DTSTART:20261003T200000Z
DTEND:20261003T223000Z
SUMMARY:Bobby Lee at Pechanga
DESCRIPTION:Bobby Lee performs Saturday October 3 at 8:00 PM at Pechanga Theater. Korean-American comedian from San Diego — MADtv veteran\, Tigerbelly podcast host\, standup that goes places most comedians won't. Confessional\, deeply weird\, intensely personal\, and it all works because he commits to every bit completely. A hometown-adjacent show with a crowd that already knows all the stories. Tickets via Pechanga Box Office and Ticketmaster.
LOCATION:Pechanga Resort Casino\, 45000 Pechanga Pkwy\, Temecula\, CA 92592
URL:https://www.falkorevents.com/eventcal/event/3645/details/
UID:event-3645@falkorevents.com
END:VEVENT
END:VCALENDAR