BEGIN:VCALENDAR
VERSION:2.0
PRODID:-//Falkor//Falkor Events//EN
CALSCALE:GREGORIAN
METHOD:PUBLISH
BEGIN:VEVENT
DTSTART:20261114T200000Z
DTEND:20261114T230000Z
SUMMARY:Outlander in Concert
DESCRIPTION:Rock music in a room the size of Dolby Theatre operates at a different physics than it does in an arena — you feel the kick drum before you hear it. Outlander in Concert performs at Dolby Theatre in Hollywood on November 14\, 2026. All ages. The people who were there will describe it differently than anyone who heard about it later — that difference is what the ticket buys.
LOCATION:6801 Hollywood Blvd.\, Dolby Theatre\, Hollywood\, CA
URL:https://www.falkorevents.com/eventcal/event/3676/details/
UID:event-3676@falkorevents.com
END:VEVENT
END:VCALENDAR