BEGIN:VCALENDAR
VERSION:2.0
PRODID:-//Falkor//Falkor Events//EN
CALSCALE:GREGORIAN
METHOD:PUBLISH
BEGIN:VEVENT
DTSTART:20261224T100000Z
DTEND:20261224T130000Z
SUMMARY:WHITE CHRISTMAS: SING - A - LONG
DESCRIPTION:There are rooms in Palm Springs where live music works differently\, and Plaza Theatre is one of them — the kind of space where the low end hits before the volume registers. WHITE CHRISTMAS: SING performs at Plaza Theatre in Palm Springs on December 24\, 2026. The setlist is fixed\, the room is real\, the sound doesn't survive the door — this is the version that lives only in the people who show up.
LOCATION:128 S. Palm Canyon Dr.\, Plaza Theatre\, Palm Springs\, CA
URL:https://www.falkorevents.com/eventcal/event/3678/details/
UID:event-3678@falkorevents.com
END:VEVENT
END:VCALENDAR