BEGIN:VCALENDAR
VERSION:2.0
PRODID:-//Falkor//Falkor Events//EN
CALSCALE:GREGORIAN
METHOD:PUBLISH
BEGIN:VEVENT
DTSTART:20260424T200000Z
DTEND:20260424T230000Z
SUMMARY:Alex Ortiz
DESCRIPTION:The difference between Alex Ortiz's recorded material and the show at CG's Comedy Club on April 24\, 2026 is the same as the difference between a photograph of a room and standing in it. Alex Ortiz performs at CG's Comedy Club in Bolingbrook on April 24\, 2026. The silence before a punchline lands in a live room is the part that doesn't transfer to the recording.
LOCATION:619 E. Boughton Rd.\, CG's Comedy Club\, Bolingbrook\, IL
URL:https://www.falkorevents.com/eventcal/event/3725/details/
UID:event-3725@falkorevents.com
END:VEVENT
END:VCALENDAR