BEGIN:VCALENDAR
VERSION:2.0
PRODID:-//Falkor//Falkor Events//EN
CALSCALE:GREGORIAN
METHOD:PUBLISH
BEGIN:VEVENT
DTSTART:20260426T170000Z
DTEND:20260426T200000Z
SUMMARY:Love\, KimPau
DESCRIPTION:Grove of Anaheim in Anaheim holds shows at the distance where the monitors bleed into the room and the crowd becomes part of the mix. Love\, KimPau performs at Grove of Anaheim in Anaheim on April 26\, 2026. The setlist is fixed\, the room is real\, the sound doesn't survive the door — this is the version that lives only in the people who show up.
LOCATION:2200 East Katella Ave.\, Grove of Anaheim\, Anaheim\, CA
URL:https://www.falkorevents.com/eventcal/event/3734/details/
UID:event-3734@falkorevents.com
END:VEVENT
END:VCALENDAR