BEGIN:VCALENDAR
VERSION:2.0
PRODID:-//Falkor//Falkor Events//EN
CALSCALE:GREGORIAN
METHOD:PUBLISH
BEGIN:VEVENT
DTSTART:20260501T193000Z
DTEND:20260501T223000Z
SUMMARY:REPLAY: BETTER LATE
DESCRIPTION:There are rooms in Palm Springs where live music works differently\, and Plaza Theatre is one of them — the kind of space where the low end hits before the volume registers. REPLAY: BETTER LATE performs at Plaza Theatre in Palm Springs on May 1\, 2026. The people in the room carry it differently than the people who watched the stream.
LOCATION:128 S. Palm Canyon Dr.\, Plaza Theatre\, Palm Springs\, CA
URL:https://www.falkorevents.com/eventcal/event/3744/details/
UID:event-3744@falkorevents.com
END:VEVENT
END:VCALENDAR