BEGIN:VCALENDAR
VERSION:2.0
PRODID:-//Falkor//Falkor Events//EN
CALSCALE:GREGORIAN
METHOD:PUBLISH
BEGIN:VEVENT
DTSTART:20260613T190000Z
DTEND:20260613T220000Z
SUMMARY:California Dance Theatre Recital
DESCRIPTION:The version of this music that plays at Fred Kavli Theatre- B of A Performing Arts Center in Thousand Oaks on June 13\, 2026 exists only once — built for that room\, that system\, that crowd. California Dance Theatre Recital performs at Fred Kavli Theatre- B of A Performing Arts Center in Thousand Oaks on June 13\, 2026. Live shows at rooms this size leave a different imprint than arenas — the ones who go remember the set list\; the ones who don't remember the night they said no.
LOCATION:2100 E. Thousand Oaks\, Fred Kavli Theatre- B of A Performing Arts Center\,Thousand Oaks\, Thousand Oaks\, CA
URL:https://www.falkorevents.com/eventcal/event/4145/details/
UID:event-4145@falkorevents.com
END:VEVENT
END:VCALENDAR