BEGIN:VCALENDAR
VERSION:2.0
PRODID:-//Falkor//Falkor Events//EN
CALSCALE:GREGORIAN
METHOD:PUBLISH
BEGIN:VEVENT
DTSTART:20260704T150000Z
DTEND:20260704T180000Z
SUMMARY:Palm Springs Symphony: Liberty: Celebrating 250 Ye
DESCRIPTION:The performing arts at Plaza Theatre in Palm Springs operate at a scale that requires presence — the version with no rewind\, no pause\, and no substitute for being in the seat. Palm Springs Symphony: Liberty: Celebrating 250 Ye performs at Plaza Theatre in Palm Springs on July 4\, 2026. The performing arts require a room to work — this is the version with no rewind\, no pause\, and no substitute for being present.
LOCATION:128 S. Palm Canyon Dr.\, Plaza Theatre\, Palm Springs\, CA
URL:https://www.falkorevents.com/eventcal/event/4159/details/
UID:event-4159@falkorevents.com
END:VEVENT
END:VCALENDAR