BEGIN:VCALENDAR
VERSION:2.0
PRODID:-//Falkor//Falkor Events//EN
CALSCALE:GREGORIAN
METHOD:PUBLISH
BEGIN:VEVENT
DTSTART:20260717T200000Z
DTEND:20260717T230000Z
SUMMARY:We Will Rock You
DESCRIPTION:California Theatre of the Performing Arts in San Bernardino on July 17\, 2026: the kind of performance that requires a room to work — staged for an audience that chose this over everything else available that night. We Will Rock You performs at California Theatre of the Performing Arts in San Bernardino on July 17\, 2026. What happens on stage exists only in the people who chose to be in that room — the recording\, if there is one\, will always be a translation.
LOCATION:562 W. 4th St\, California Theatre of the Performing Arts\, San Bernardino\, CA
URL:https://www.falkorevents.com/eventcal/event/4170/details/
UID:event-4170@falkorevents.com
END:VEVENT
END:VCALENDAR