BEGIN:VCALENDAR
VERSION:2.0
PRODID:-//Falkor//Falkor Events//EN
CALSCALE:GREGORIAN
METHOD:PUBLISH
BEGIN:VEVENT
DTSTART:20260606T190000Z
DTEND:20260606T211500Z
SUMMARY:New Moon Meditation Paint Night
DESCRIPTION:A new moon\, a dark canvas\, and two hours to put something quiet on it. Pinot's Palette in Temecula's New Moon Meditation Paint Night is a Saturday evening that starts with intention and ends with something you made.
LOCATION:41789 Nicole Lane Ste B6\, Temecula\, CA 92591
URL:https://www.falkorevents.com/eventcal/event/4187/details/
UID:event-4187@falkorevents.com
END:VEVENT
END:VCALENDAR