BEGIN:VCALENDAR
VERSION:2.0
PRODID:-//Falkor//Falkor Events//EN
CALSCALE:GREGORIAN
METHOD:PUBLISH
BEGIN:VEVENT
DTSTART:20260614T160000Z
DTEND:20260615T020000Z
SUMMARY:Pokemon TCG City Championship — Los Angeles
DESCRIPTION:Pokemon TCG City Championship — a major competitive event awarding Championship Points and prizes toward the World Championship. Top-tier competition across all three age divisions. Come to test your rogue deck or run a proven meta list. Either way\, this is where the real game happens.
LOCATION:1795 E Colorado Blvd\, Pasadena\, CA 91106
URL:https://www.falkorevents.com/eventcal/event/4430/details/
UID:event-4430@falkorevents.com
END:VEVENT
END:VCALENDAR