BEGIN:VCALENDAR
VERSION:2.0
PRODID:-//Falkor//Falkor Events//EN
CALSCALE:GREGORIAN
METHOD:PUBLISH
BEGIN:VEVENT
DTSTART:20260823T160000Z
DTEND:20260823T210000Z
SUMMARY:So-Cal Cosplay Shoot — Old Town SD
DESCRIPTION:SoCal Cosplay Shoot — a collaborative photography event at one of San Diego's most iconic backdrops. Photographers of all skill levels welcome. Cosplayers of all fandoms — bring your A-game or your first build. The only rule is that everyone leaves with better shots and new friends.
LOCATION:Old Town San Diego\, CA 92110
URL:https://www.falkorevents.com/eventcal/event/4534/details/
UID:event-4534@falkorevents.com
END:VEVENT
END:VCALENDAR