BEGIN:VCALENDAR
VERSION:2.0
PRODID:-//Falkor//Falkor Events//EN
CALSCALE:GREGORIAN
METHOD:PUBLISH
BEGIN:VEVENT
DTSTART:20260912T170000Z
DTEND:20260913T010000Z
SUMMARY:San Diego Comic Fest 2026 — Day 2
DESCRIPTION:Day 2 of SD Comic Fest. The panels go deep — creators talking process\, history\, craft. This is a convention that respects your intelligence and your love of the medium.
LOCATION:Town and Country Resort\, 500 Hotel Circle N\, San Diego\, CA 92108
URL:https://www.falkorevents.com/eventcal/event/4596/details/
UID:event-4596@falkorevents.com
END:VEVENT
END:VCALENDAR