BEGIN:VCALENDAR
VERSION:2.0
PRODID:-//Falkor//Falkor Events//EN
CALSCALE:GREGORIAN
METHOD:PUBLISH
BEGIN:VEVENT
DTSTART:20261114T023000Z
DTEND:20261114T063000Z
SUMMARY:MTG Friday Night Magic — TCS Rockets
DESCRIPTION:Another Friday\, another FNM at TCS Rockets. The format rotates — Draft\, Standard\, or Sealed — but the community doesn't. SoCal's Magic scene runs deep at TCS and Friday nights are where you meet the players you'll be battling for years. Entry includes promo packs.
LOCATION:7626 Miramar Rd Suite 3900\, San Diego\, CA 92126
URL:https://www.falkorevents.com/eventcal/event/4634/details/
UID:event-4634@falkorevents.com
END:VEVENT
END:VCALENDAR