BEGIN:VCALENDAR
VERSION:2.0
PRODID:-//Falkor//Falkor Events//EN
CALSCALE:GREGORIAN
METHOD:PUBLISH
BEGIN:VEVENT
DTSTART:20261205T023000Z
DTEND:20261205T063000Z
SUMMARY:MTG Friday Night Magic — TCS Rockets
DESCRIPTION:Friday Night Magic at TCS Rockets — December edition. The holiday season doesn't stop the FNM grind. Draft pods forming at 6:30\, side events all evening\, and the trading community active between rounds. Come for the format\, stay for the people who make this the best LGS in San Diego.
LOCATION:7626 Miramar Rd Suite 3900\, San Diego\, CA 92126
URL:https://www.falkorevents.com/eventcal/event/4636/details/
UID:event-4636@falkorevents.com
END:VEVENT
END:VCALENDAR