BEGIN:VCALENDAR
VERSION:2.0
PRODID:-//Falkor//Falkor Events//EN
CALSCALE:GREGORIAN
METHOD:PUBLISH
BEGIN:VEVENT
DTSTART:20261212T023000Z
DTEND:20261212T063000Z
SUMMARY:MTG Friday Night Magic — TCS Rockets
DESCRIPTION:FNM at TCS Rockets. The new set is out and the meta is live — Friday nights are when you stress-test your builds against the most honest playgroup in the city. No proxies\, no excuses. Bring your best 60 (or 100 for Commander) and find out where you stand.
LOCATION:7626 Miramar Rd Suite 3900\, San Diego\, CA 92126
URL:https://www.falkorevents.com/eventcal/event/4637/details/
UID:event-4637@falkorevents.com
END:VEVENT
END:VCALENDAR