BEGIN:VCALENDAR
VERSION:2.0
PRODID:-//Falkor//Falkor Events//EN
CALSCALE:GREGORIAN
METHOD:PUBLISH
BEGIN:VEVENT
DTSTART:20260724T163000Z
DTEND:20260725T040000Z
SUMMARY:San Diego Comic-Con 2026 — Friday
DESCRIPTION:San Diego Comic-Con International — the crown jewel of pop culture conventions. Film premieres\, comics legends\, gaming reveals\, and 130\,000 fans converging on the city. There is nothing else like it.
LOCATION:San Diego Convention Center\, 111 W Harbor Dr\, San Diego\, CA 92101
URL:https://www.falkorevents.com/eventcal/event/4642/details/
UID:event-4642@falkorevents.com
END:VEVENT
END:VCALENDAR