BEGIN:VCALENDAR
VERSION:2.0
PRODID:-//Falkor//Falkor Events//EN
CALSCALE:GREGORIAN
METHOD:PUBLISH
BEGIN:VEVENT
DTSTART:20260424T200000Z
DTEND:20260424T230000Z
SUMMARY:MJ (Touring)
DESCRIPTION:Rock music in a room the size of Hollywood Pantages Theatre operates at a different physics than it does in an arena — you feel the kick drum before you hear it. MJ performs at Hollywood Pantages Theatre in Los Angeles on April 24\, 2026. What plays in the car on the way home is always the live version\, even when the live version hasn't happened yet.
LOCATION:6233 Hollywood Blvd.\, Hollywood Pantages Theatre\, Los Angeles\, CA
URL:https://www.falkorevents.com/eventcal/event/4666/details/
UID:event-4666@falkorevents.com
END:VEVENT
END:VCALENDAR