BEGIN:VCALENDAR
VERSION:2.0
PRODID:-//Falkor//Falkor Events//EN
CALSCALE:GREGORIAN
METHOD:PUBLISH
BEGIN:VEVENT
DTSTART:20260504T213000Z
DTEND:20260505T003000Z
SUMMARY:Netflix Is A Joke Presents: Adrienne Iapalucci & F
DESCRIPTION:Netflix Is A Joke at Los Angeles in CA 90038 on May 4\, 2026: the show that exists because stand-up only fully works in the room\, where the laugh is real and the awkward pauses are part of the performance. Netflix Is A Joke performs at Los Angeles in CA 90038 on May 4\, 2026. 21+. Stand-up comedy only fully exists in the room where it happens — the recording is always an approximation.
LOCATION:1123 Vine St\, Los Angeles\, CA 90038\, The Three Clubs\, Los Angeles\, CA
URL:https://www.falkorevents.com/eventcal/event/4669/details/
UID:event-4669@falkorevents.com
END:VEVENT
END:VCALENDAR