BEGIN:VCALENDAR
VERSION:2.0
PRODID:-//Falkor//Falkor Events//EN
CALSCALE:GREGORIAN
METHOD:PUBLISH
BEGIN:VEVENT
DTSTART:20260604T010000Z
DTEND:20260624T040000Z
SUMMARY:2026 NBA Finals
DESCRIPTION:The 2026 NBA Finals begin in June — the culmination of a full postseason. Best-of-seven. Games 1-2 and 6-7 at the higher seed's arena. The Finals are where legacies get written and torn apart in the same series. Whether it's OKC defending\, Boston returning\, or someone else entirely — the NBA Finals is the best live sports product in North America. Playoff basketball is a completely different game from the regular season. Why go: There is no crowd in sports more unhinged than a home crowd watching their team in the NBA Finals. Tickets via team home arenas.
LOCATION:TBD — Home Arenas of NBA Finalists
URL:https://www.falkorevents.com/eventcal/event/4721/details/
UID:event-4721@falkorevents.com
END:VEVENT
END:VCALENDAR