BEGIN:VCALENDAR
VERSION:2.0
PRODID:-//Falkor//Falkor Events//EN
CALSCALE:GREGORIAN
METHOD:PUBLISH
BEGIN:VEVENT
DTSTART:20260601T220000Z
DTEND:20260625T040000Z
SUMMARY:2026 Stanley Cup Finals
DESCRIPTION:The 2026 Stanley Cup Finals begin in June — the championship series that decides hockey's greatest trophy. Best-of-seven. The Stanley Cup is the only trophy in major pro sports that the players actually touch — handed directly from commissioner to captain\, captain to teammates\, around the ice. A Game 7 Stanley Cup Final on home ice is one of the loudest environments in the history of indoor sports. Why go: Hockey playoffs have a specific kind of religious fervor — playoff beards\, rally towels\, 20\,000 people simultaneously holding their breath. Tickets via team home arenas.
LOCATION:TBD — Home Arenas of NHL Finalists
URL:https://www.falkorevents.com/eventcal/event/4722/details/
UID:event-4722@falkorevents.com
END:VEVENT
END:VCALENDAR