BEGIN:VCALENDAR
VERSION:2.0
PRODID:-//Falkor//Falkor Events//EN
CALSCALE:GREGORIAN
METHOD:PUBLISH
BEGIN:VEVENT
DTSTART:20260625T160000Z
DTEND:20260629T080000Z
SUMMARY:VidCon 2026
DESCRIPTION:VidCon 2026 returns to the Anaheim Convention Center June 25-28 — the original convention for internet creators and the communities they built. Community Track is where fans meet their favorite creators in person for the first time. Creator Track is where full-time creators learn from the people who figured it out. Industry Track is where brands\, platforms\, and deal-makers find the next generation. The Anaheim venue is massive — Disney across the street\, creator booths everywhere\, and meet-and-greet lines that start at 6am. Why go: VidCon is where parasocial becomes real. Passes at vidcon.com.
LOCATION:Anaheim Convention Center\, 800 W Katella Ave\, Anaheim\, CA 92802
URL:https://www.falkorevents.com/eventcal/event/4729/details/
UID:event-4729@falkorevents.com
END:VEVENT
END:VCALENDAR