BEGIN:VCALENDAR
VERSION:2.0
PRODID:-//Falkor//Falkor Events//EN
CALSCALE:GREGORIAN
METHOD:PUBLISH
BEGIN:VEVENT
DTSTART:20260925T160000Z
DTEND:20260928T080000Z
SUMMARY:TwitchCon North America 2026
DESCRIPTION:TwitchCon North America 2026 returns to San Diego September 25-27 — the convention built for live streaming culture. The expo hall is a live streaming studio crossed with a gaming lounge — streamers broadcasting from the floor\, sub-notification sounds everywhere\, and meet-and-greets with people you've watched for 3\,000 hours. Variety Arcades\, developer showcases\, cosplay competitions for game characters\, and the inevitable TwitchCon Pool Incident follow-up safety improvements. Why go: Your favorite streamer is probably here and you can actually talk to them. Tickets at twitchcon.com.
LOCATION:San Diego Convention Center\, 111 W Harbor Dr\, San Diego\, CA 92101
URL:https://www.falkorevents.com/eventcal/event/4730/details/
UID:event-4730@falkorevents.com
END:VEVENT
END:VCALENDAR