BEGIN:VCALENDAR
VERSION:2.0
PRODID:-//Falkor//Falkor Events//EN
CALSCALE:GREGORIAN
METHOD:PUBLISH
BEGIN:VEVENT
DTSTART:20260502T020000Z
DTEND:20260502T070000Z
SUMMARY:King of the Cage: Spring Clash at Soboba Casino
DESCRIPTION:King of the Cage returns to Soboba Casino Resort for a full MMA fight card fifteen minutes from Murrieta. Eight to ten bouts across all weight classes\, from regional up-and-comers to ranked contenders angling for a shot at the belt. Soboba's intimate arena puts you close enough to hear the corner. Tickets at kotcfighting.com — confirm exact date and card when announced. This is where SoCal fighters get found.
LOCATION:Soboba Casino Resort\, 23333 Soboba Rd\, San Jacinto\, CA 92583
URL:https://www.falkorevents.com/eventcal/event/4736/details/
UID:event-4736@falkorevents.com
END:VEVENT
END:VCALENDAR