BEGIN:VCALENDAR
VERSION:2.0
PRODID:-//Falkor//Falkor Events//EN
CALSCALE:GREGORIAN
METHOD:PUBLISH
BEGIN:VEVENT
DTSTART:20260801T020000Z
DTEND:20260801T070000Z
SUMMARY:King of the Cage: Dog Days of Summer at Soboba Casino
DESCRIPTION:King of the Cage mid-summer card at Soboba Casino Resort in San Jacinto. The August card is typically where KOTC promotes the fighters who've been quietly building records all year and need one big win to move up. The crowd at Soboba knows MMA — not a tourist event. Fifteen miles from Murrieta. Tickets at kotcfighting.com.
LOCATION:Soboba Casino Resort\, 23333 Soboba Rd\, San Jacinto\, CA 92583
URL:https://www.falkorevents.com/eventcal/event/4737/details/
UID:event-4737@falkorevents.com
END:VEVENT
END:VCALENDAR