BEGIN:VCALENDAR
VERSION:2.0
PRODID:-//Falkor//Falkor Events//EN
CALSCALE:GREGORIAN
METHOD:PUBLISH
BEGIN:VEVENT
DTSTART:20261003T020000Z
DTEND:20261003T070000Z
SUMMARY:King of the Cage: Fall Fury at Soboba Casino
DESCRIPTION:The fall card at Soboba Casino is where King of the Cage settles the year's unfinished business — rematches\, title defenses\, breakout performances. San Jacinto\, fifteen miles from Murrieta. Full card across all weight classes. The fighters who win here in October go into 2027 with momentum. Tickets and full card at kotcfighting.com.
LOCATION:Soboba Casino Resort\, 23333 Soboba Rd\, San Jacinto\, CA 92583
URL:https://www.falkorevents.com/eventcal/event/4738/details/
UID:event-4738@falkorevents.com
END:VEVENT
END:VCALENDAR