BEGIN:VCALENDAR
VERSION:2.0
PRODID:-//Falkor//Falkor Events//EN
CALSCALE:GREGORIAN
METHOD:PUBLISH
BEGIN:VEVENT
DTSTART:20260605T230000Z
DTEND:20260606T023000Z
SUMMARY:WWE SmackDown Live at Pechanga Arena San Diego
DESCRIPTION:WWE SmackDown comes to Pechanga Arena San Diego for a Friday night live taping. San Diego is a regular stop on the WWE touring circuit and Pechanga Arena draws one of the loudest crowds on the road. Title matches\, surprise returns\, and the moments that run on the highlight reel for years. Doors at 6:30pm\, show at 8pm. Tickets at wwe.com — confirm card closer to date.
LOCATION:Pechanga Arena San Diego\, 3500 Sports Arena Blvd\, San Diego\, CA 92110
URL:https://www.falkorevents.com/eventcal/event/4739/details/
UID:event-4739@falkorevents.com
END:VEVENT
END:VCALENDAR