BEGIN:VCALENDAR
VERSION:2.0
PRODID:-//Falkor//Falkor Events//EN
CALSCALE:GREGORIAN
METHOD:PUBLISH
BEGIN:VEVENT
DTSTART:20260915T000000Z
DTEND:20260915T033000Z
SUMMARY:WWE Monday Night Raw at Honda Center Anaheim
DESCRIPTION:Monday Night Raw at Honda Center in Anaheim — sixty-five miles from Murrieta and worth every one of them. Raw live tapings in Anaheim routinely produce the kind of crowd energy that changes how a match feels on television. The Honda Center is the right size for wrestling: loud\, close\, and built for moments. Tickets at wwe.com. Full card announced closer to date.
LOCATION:Honda Center\, 2695 E Katella Ave\, Anaheim\, CA 92806
URL:https://www.falkorevents.com/eventcal/event/4740/details/
UID:event-4740@falkorevents.com
END:VEVENT
END:VCALENDAR